BEGIN:VCALENDAR
VERSION:2.0
PRODID:-//Alpha Health Care - ECPv6.10.0//NONSGML v1.0//EN
CALSCALE:GREGORIAN
METHOD:PUBLISH
X-ORIGINAL-URL:https://www.alphahealthcaregroup.co.uk
X-WR-CALDESC:Events for Alpha Health Care
REFRESH-INTERVAL;VALUE=DURATION:PT1H
X-Robots-Tag:noindex
X-PUBLISHED-TTL:PT1H
BEGIN:VTIMEZONE
TZID:Europe/London
BEGIN:DAYLIGHT
TZOFFSETFROM:+0000
TZOFFSETTO:+0100
TZNAME:BST
DTSTART:20220327T010000
END:DAYLIGHT
BEGIN:STANDARD
TZOFFSETFROM:+0100
TZOFFSETTO:+0000
TZNAME:GMT
DTSTART:20221030T010000
END:STANDARD
END:VTIMEZONE
BEGIN:VEVENT
DTSTART;VALUE=DATE:20220713
DTEND;VALUE=DATE:20220714
DTSTAMP:20260422T111139
CREATED:20220712T115142Z
LAST-MODIFIED:20220712T115142Z
UID:2078-1657670400-1657756799@www.alphahealthcaregroup.co.uk
SUMMARY:Disney Day
DESCRIPTION:The Alpha Health Care Disney Day is being held on Wednesday 13th July.
URL:https://www.alphahealthcaregroup.co.uk/event/disney-day/
ATTACH;FMTTYPE=image/jpeg:https://www.alphahealthcaregroup.co.uk/wp-content/uploads/2022/07/disney.jpeg
END:VEVENT
END:VCALENDAR